BEGIN:VCALENDAR
VERSION:2.0
PRODID:-//The Cumberland Winds - ECPv6.15.20//NONSGML v1.0//EN
CALSCALE:GREGORIAN
METHOD:PUBLISH
X-WR-CALNAME:The Cumberland Winds
X-ORIGINAL-URL:https://cumberlandwinds.org/wp
X-WR-CALDESC:Events for The Cumberland Winds
REFRESH-INTERVAL;VALUE=DURATION:PT1H
X-Robots-Tag:noindex
X-PUBLISHED-TTL:PT1H
BEGIN:VTIMEZONE
TZID:America/Chicago
BEGIN:DAYLIGHT
TZOFFSETFROM:-0600
TZOFFSETTO:-0500
TZNAME:CDT
DTSTART:20240310T080000
END:DAYLIGHT
BEGIN:STANDARD
TZOFFSETFROM:-0500
TZOFFSETTO:-0600
TZNAME:CST
DTSTART:20241103T070000
END:STANDARD
BEGIN:DAYLIGHT
TZOFFSETFROM:-0600
TZOFFSETTO:-0500
TZNAME:CDT
DTSTART:20250309T080000
END:DAYLIGHT
BEGIN:STANDARD
TZOFFSETFROM:-0500
TZOFFSETTO:-0600
TZNAME:CST
DTSTART:20251102T070000
END:STANDARD
BEGIN:DAYLIGHT
TZOFFSETFROM:-0600
TZOFFSETTO:-0500
TZNAME:CDT
DTSTART:20260308T080000
END:DAYLIGHT
BEGIN:STANDARD
TZOFFSETFROM:-0500
TZOFFSETTO:-0600
TZNAME:CST
DTSTART:20261101T070000
END:STANDARD
END:VTIMEZONE
BEGIN:VEVENT
DTSTART;TZID=America/Chicago:20251004T193000
DTEND;TZID=America/Chicago:20251004T210000
DTSTAMP:20260423T143706
CREATED:20250412T031241Z
LAST-MODIFIED:20250725T204559Z
UID:655-1759606200-1759611600@cumberlandwinds.org
SUMMARY:Concert Band Fall 15th Anniversary Concert
DESCRIPTION:
URL:https://cumberlandwinds.org/wp/event/concert-band-fall-concert/
LOCATION:First Presbyterian Church\, 213 Main St\, Clarksville\, TN\, 37040\, United States
END:VEVENT
BEGIN:VEVENT
DTSTART;TZID=America/Chicago:20251025T130000
DTEND;TZID=America/Chicago:20251025T143000
DTSTAMP:20260423T143706
CREATED:20250412T031359Z
LAST-MODIFIED:20250412T031359Z
UID:657-1761397200-1761402600@cumberlandwinds.org
SUMMARY:Concert Band
DESCRIPTION:
URL:https://cumberlandwinds.org/wp/event/concert-band-17/
LOCATION:Clarksville-Montgomery County Public Library\, 350 Pageant Ln #501\, Clarksville\, TN\, 37040\, United States
END:VEVENT
END:VCALENDAR