BEGIN:VCALENDAR
VERSION:2.0
PRODID:-//The Cumberland Winds - ECPv6.15.20//NONSGML v1.0//EN
CALSCALE:GREGORIAN
METHOD:PUBLISH
X-WR-CALNAME:The Cumberland Winds
X-ORIGINAL-URL:https://cumberlandwinds.org/wp
X-WR-CALDESC:Events for The Cumberland Winds
REFRESH-INTERVAL;VALUE=DURATION:PT1H
X-Robots-Tag:noindex
X-PUBLISHED-TTL:PT1H
BEGIN:VTIMEZONE
TZID:UTC
BEGIN:STANDARD
TZOFFSETFROM:+0000
TZOFFSETTO:+0000
TZNAME:UTC
DTSTART:20210101T000000
END:STANDARD
END:VTIMEZONE
BEGIN:VTIMEZONE
TZID:America/Chicago
BEGIN:DAYLIGHT
TZOFFSETFROM:-0600
TZOFFSETTO:-0500
TZNAME:CDT
DTSTART:20210314T080000
END:DAYLIGHT
BEGIN:STANDARD
TZOFFSETFROM:-0500
TZOFFSETTO:-0600
TZNAME:CST
DTSTART:20211107T070000
END:STANDARD
BEGIN:DAYLIGHT
TZOFFSETFROM:-0600
TZOFFSETTO:-0500
TZNAME:CDT
DTSTART:20220313T080000
END:DAYLIGHT
BEGIN:STANDARD
TZOFFSETFROM:-0500
TZOFFSETTO:-0600
TZNAME:CST
DTSTART:20221106T070000
END:STANDARD
BEGIN:DAYLIGHT
TZOFFSETFROM:-0600
TZOFFSETTO:-0500
TZNAME:CDT
DTSTART:20230312T080000
END:DAYLIGHT
BEGIN:STANDARD
TZOFFSETFROM:-0500
TZOFFSETTO:-0600
TZNAME:CST
DTSTART:20231105T070000
END:STANDARD
END:VTIMEZONE
BEGIN:VEVENT
DTSTART;TZID=UTC:20220402T190000
DTEND;TZID=UTC:20220402T200000
DTSTAMP:20260424T175245
CREATED:20220323T020233Z
LAST-MODIFIED:20220330T032626Z
UID:153-1648926000-1648929600@cumberlandwinds.org
SUMMARY:Jazz Combo
DESCRIPTION:
URL:https://cumberlandwinds.org/wp/event/jazz-combo/
LOCATION:Roxy Regional Theater\, 100 Franklin Street\, Clarksville\, TN\, 37040\, United States
END:VEVENT
BEGIN:VEVENT
DTSTART;TZID=America/Chicago:20220408T073000
DTEND;TZID=America/Chicago:20220408T210000
DTSTAMP:20260424T175245
CREATED:20220326T040230Z
LAST-MODIFIED:20220326T040230Z
UID:191-1649403000-1649451600@cumberlandwinds.org
SUMMARY:Jazz Project Mid-South Jazz Festival
DESCRIPTION:
URL:https://cumberlandwinds.org/wp/event/jazz-project-mid-south-jazz-festival/
LOCATION:Austin Peay State University\, 601 College St\, Clarksville\, TN\, 37044\, United States
CATEGORIES:Performance
END:VEVENT
BEGIN:VEVENT
DTSTART;TZID=UTC:20220409T133000
DTEND;TZID=UTC:20220409T143000
DTSTAMP:20260424T175245
CREATED:20220323T020532Z
LAST-MODIFIED:20220323T020541Z
UID:156-1649511000-1649514600@cumberlandwinds.org
SUMMARY:Dixie Band
DESCRIPTION:
URL:https://cumberlandwinds.org/wp/event/dixie-band/
LOCATION:The Villages\, 1176 Warfield Boulevard Court\, Clarksville\, TN\, 37043\, United States
END:VEVENT
BEGIN:VEVENT
DTSTART;TZID=America/Chicago:20220416T143000
DTEND;TZID=America/Chicago:20220416T153000
DTSTAMP:20260424T175245
CREATED:20220411T235246Z
LAST-MODIFIED:20220411T235246Z
UID:197-1650119400-1650123000@cumberlandwinds.org
SUMMARY:Saxophone Quartet
DESCRIPTION:
URL:https://cumberlandwinds.org/wp/event/saxophone-quartet/
LOCATION:Arcadia Senior Living Clarksville\, 175 Chesapeake Ln\, Clarksville\, TN\, 37040\, United States
CATEGORIES:Performance
END:VEVENT
BEGIN:VEVENT
DTSTART;TZID=UTC:20220417T101500
DTEND;TZID=UTC:20220417T113000
DTSTAMP:20260424T175245
CREATED:20220323T021011Z
LAST-MODIFIED:20220323T021011Z
UID:159-1650190500-1650195000@cumberlandwinds.org
SUMMARY:Brass Quintet Easter Service
DESCRIPTION:
URL:https://cumberlandwinds.org/wp/event/brass-quintet-easter-service/
LOCATION:Grace Episcopal Church\, 216 E 6th St\, Hopkinsville\, KY\, 42240\, United States
END:VEVENT
BEGIN:VEVENT
DTSTART;TZID=UTC:20220422T193000
DTEND;TZID=UTC:20220422T203000
DTSTAMP:20260424T175245
CREATED:20220323T021255Z
LAST-MODIFIED:20220323T021255Z
UID:162-1650655800-1650659400@cumberlandwinds.org
SUMMARY:Concert Band
DESCRIPTION:Concert will be in the Fellowship Hall
URL:https://cumberlandwinds.org/wp/event/concert-band/
LOCATION:First Baptist Church\, 499 Commerce St\, Clarksville\, TN\, 37040\, United States
END:VEVENT
BEGIN:VEVENT
DTSTART;TZID=UTC:20220430T130000
DTEND;TZID=UTC:20220430T140000
DTSTAMP:20260424T175245
CREATED:20220323T021720Z
LAST-MODIFIED:20220323T021720Z
UID:164-1651323600-1651327200@cumberlandwinds.org
SUMMARY:Concert Band
DESCRIPTION:
URL:https://cumberlandwinds.org/wp/event/concert-band-2/
LOCATION:Clarksville-Montgomery County Public Library\, 350 Pageant Ln #501\, Clarksville\, TN\, 37040\, United States
END:VEVENT
END:VCALENDAR