BEGIN:VCALENDAR
VERSION:2.0
PRODID:-//The Cumberland Winds - ECPv6.15.20//NONSGML v1.0//EN
CALSCALE:GREGORIAN
METHOD:PUBLISH
X-WR-CALNAME:The Cumberland Winds
X-ORIGINAL-URL:https://cumberlandwinds.org/wp
X-WR-CALDESC:Events for The Cumberland Winds
REFRESH-INTERVAL;VALUE=DURATION:PT1H
X-Robots-Tag:noindex
X-PUBLISHED-TTL:PT1H
BEGIN:VTIMEZONE
TZID:America/Chicago
BEGIN:DAYLIGHT
TZOFFSETFROM:-0600
TZOFFSETTO:-0500
TZNAME:CDT
DTSTART:20250309T080000
END:DAYLIGHT
BEGIN:STANDARD
TZOFFSETFROM:-0500
TZOFFSETTO:-0600
TZNAME:CST
DTSTART:20251102T070000
END:STANDARD
BEGIN:DAYLIGHT
TZOFFSETFROM:-0600
TZOFFSETTO:-0500
TZNAME:CDT
DTSTART:20260308T080000
END:DAYLIGHT
BEGIN:STANDARD
TZOFFSETFROM:-0500
TZOFFSETTO:-0600
TZNAME:CST
DTSTART:20261101T070000
END:STANDARD
BEGIN:DAYLIGHT
TZOFFSETFROM:-0600
TZOFFSETTO:-0500
TZNAME:CDT
DTSTART:20270314T080000
END:DAYLIGHT
BEGIN:STANDARD
TZOFFSETFROM:-0500
TZOFFSETTO:-0600
TZNAME:CST
DTSTART:20271107T070000
END:STANDARD
END:VTIMEZONE
BEGIN:VEVENT
DTSTART;TZID=America/Chicago:20260411T133000
DTEND;TZID=America/Chicago:20260411T143000
DTSTAMP:20260421T160929
CREATED:20260203T234126Z
LAST-MODIFIED:20260203T234126Z
UID:736-1775914200-1775917800@cumberlandwinds.org
SUMMARY:Trombone Quartet
DESCRIPTION:
URL:https://cumberlandwinds.org/wp/event/trombone-quartet-5/
LOCATION:Arcadia Senior Living Clarksville\, 175 Chesapeake Ln\, Clarksville\, TN\, 37040\, United States
CATEGORIES:Performance
END:VEVENT
BEGIN:VEVENT
DTSTART;TZID=America/Chicago:20260411T190000
DTEND;TZID=America/Chicago:20260411T203000
DTSTAMP:20260421T160929
CREATED:20250725T205525Z
LAST-MODIFIED:20250725T205525Z
UID:678-1775934000-1775939400@cumberlandwinds.org
SUMMARY:Jazz Project
DESCRIPTION:
URL:https://cumberlandwinds.org/wp/event/jazz-project-5/
LOCATION:Houston County High School\, 2500 TN-149\, Erin\, TN\, 37061\, United States
CATEGORIES:Performance
END:VEVENT
END:VCALENDAR