BEGIN:VCALENDAR
VERSION:2.0
PRODID:-//The Cumberland Winds - ECPv6.15.20//NONSGML v1.0//EN
CALSCALE:GREGORIAN
METHOD:PUBLISH
X-ORIGINAL-URL:https://cumberlandwinds.org/wp
X-WR-CALDESC:Events for The Cumberland Winds
REFRESH-INTERVAL;VALUE=DURATION:PT1H
X-Robots-Tag:noindex
X-PUBLISHED-TTL:PT1H
BEGIN:VTIMEZONE
TZID:UTC
BEGIN:STANDARD
TZOFFSETFROM:+0000
TZOFFSETTO:+0000
TZNAME:UTC
DTSTART:20210101T000000
END:STANDARD
END:VTIMEZONE
BEGIN:VEVENT
DTSTART;TZID=UTC:20220923T193000
DTEND;TZID=UTC:20220923T210000
DTSTAMP:20260424T102912
CREATED:20220323T022421Z
LAST-MODIFIED:20220323T022421Z
UID:174-1663961400-1663966800@cumberlandwinds.org
SUMMARY:Jazz Project "Guest Artist" Concert
DESCRIPTION:Concert will be held in the Fellowship Hall
URL:https://cumberlandwinds.org/wp/event/jazz-project-guest-artist-concert/
LOCATION:First Baptist Church\, 499 Commerce St\, Clarksville\, TN\, 37040\, United States
END:VEVENT
END:VCALENDAR