BEGIN:VCALENDAR
VERSION:2.0
PRODID:-//The Cumberland Winds - ECPv6.15.20//NONSGML v1.0//EN
CALSCALE:GREGORIAN
METHOD:PUBLISH
X-WR-CALNAME:The Cumberland Winds
X-ORIGINAL-URL:https://cumberlandwinds.org/wp
X-WR-CALDESC:Events for The Cumberland Winds
REFRESH-INTERVAL;VALUE=DURATION:PT1H
X-Robots-Tag:noindex
X-PUBLISHED-TTL:PT1H
BEGIN:VTIMEZONE
TZID:America/Chicago
BEGIN:DAYLIGHT
TZOFFSETFROM:-0600
TZOFFSETTO:-0500
TZNAME:CDT
DTSTART:20210314T080000
END:DAYLIGHT
BEGIN:STANDARD
TZOFFSETFROM:-0500
TZOFFSETTO:-0600
TZNAME:CST
DTSTART:20211107T070000
END:STANDARD
BEGIN:DAYLIGHT
TZOFFSETFROM:-0600
TZOFFSETTO:-0500
TZNAME:CDT
DTSTART:20220313T080000
END:DAYLIGHT
BEGIN:STANDARD
TZOFFSETFROM:-0500
TZOFFSETTO:-0600
TZNAME:CST
DTSTART:20221106T070000
END:STANDARD
BEGIN:DAYLIGHT
TZOFFSETFROM:-0600
TZOFFSETTO:-0500
TZNAME:CDT
DTSTART:20230312T080000
END:DAYLIGHT
BEGIN:STANDARD
TZOFFSETFROM:-0500
TZOFFSETTO:-0600
TZNAME:CST
DTSTART:20231105T070000
END:STANDARD
END:VTIMEZONE
BEGIN:VEVENT
DTSTART;TZID=America/Chicago:20220730T170000
DTEND;TZID=America/Chicago:20220730T180000
DTSTAMP:20260424T145419
CREATED:20220722T192548Z
LAST-MODIFIED:20220722T192548Z
UID:220-1659200400-1659204000@cumberlandwinds.org
SUMMARY:Cumberland Winds Flute Recital
DESCRIPTION:There will be a Cumberland Winds Flute Recital on Saturday\, the 30th of July\, 2022\, at 5 pm\, located at Trinity Episcopal Church\, 317 Franklin Street. \n  \nTamara Deichert\, who received her masters degree from APSU\, has been a longtime member of the Cumberland Winds.  Recently\, she received a full fellowship for doctoral work at Ball State University in Indiana and members of the Cumberland Winds will participate in an exciting farewell recital. It will be a flute extravaganza of virtuoso duos and trios in a variety of styles\, from fife and drum\, through opera\, folk songs\, and jazz. Performing with Tamara will be flutists Yvonne Kendall and Anne Friend; Bobbie Textor\, piano; and Jerry Textor\, percussion. \n  \nThe Recital is free and open to the public. (Donations accepted).
URL:https://cumberlandwinds.org/wp/event/cumberland-winds-flute-recital/
LOCATION:Trinity Episcopal Church\, 317 Franklin St\, Clarksville\, TN\, 37040\, United States
CATEGORIES:Performance
END:VEVENT
END:VCALENDAR