BEGIN:VCALENDAR
VERSION:2.0
PRODID:-//The Cumberland Winds - ECPv6.15.20//NONSGML v1.0//EN
CALSCALE:GREGORIAN
METHOD:PUBLISH
X-WR-CALNAME:The Cumberland Winds
X-ORIGINAL-URL:https://cumberlandwinds.org/wp
X-WR-CALDESC:Events for The Cumberland Winds
REFRESH-INTERVAL;VALUE=DURATION:PT1H
X-Robots-Tag:noindex
X-PUBLISHED-TTL:PT1H
BEGIN:VTIMEZONE
TZID:UTC
BEGIN:STANDARD
TZOFFSETFROM:+0000
TZOFFSETTO:+0000
TZNAME:UTC
DTSTART:20210101T000000
END:STANDARD
END:VTIMEZONE
BEGIN:VEVENT
DTSTART;TZID=UTC:20220430T130000
DTEND;TZID=UTC:20220430T140000
DTSTAMP:20260424T205750
CREATED:20220323T021720Z
LAST-MODIFIED:20220323T021720Z
UID:164-1651323600-1651327200@cumberlandwinds.org
SUMMARY:Concert Band
DESCRIPTION:
URL:https://cumberlandwinds.org/wp/event/concert-band-2/
LOCATION:Clarksville-Montgomery County Public Library\, 350 Pageant Ln #501\, Clarksville\, TN\, 37040\, United States
END:VEVENT
END:VCALENDAR