BEGIN:VCALENDAR
VERSION:2.0
PRODID:-//The Cumberland Winds - ECPv6.15.20//NONSGML v1.0//EN
CALSCALE:GREGORIAN
METHOD:PUBLISH
X-WR-CALNAME:The Cumberland Winds
X-ORIGINAL-URL:https://cumberlandwinds.org/wp
X-WR-CALDESC:Events for The Cumberland Winds
REFRESH-INTERVAL;VALUE=DURATION:PT1H
X-Robots-Tag:noindex
X-PUBLISHED-TTL:PT1H
BEGIN:VTIMEZONE
TZID:UTC
BEGIN:STANDARD
TZOFFSETFROM:+0000
TZOFFSETTO:+0000
TZNAME:UTC
DTSTART:20210101T000000
END:STANDARD
END:VTIMEZONE
BEGIN:VEVENT
DTSTART;TZID=UTC:20220417T101500
DTEND;TZID=UTC:20220417T113000
DTSTAMP:20260424T192231
CREATED:20220323T021011Z
LAST-MODIFIED:20220323T021011Z
UID:159-1650190500-1650195000@cumberlandwinds.org
SUMMARY:Brass Quintet Easter Service
DESCRIPTION:
URL:https://cumberlandwinds.org/wp/event/brass-quintet-easter-service/
LOCATION:Grace Episcopal Church\, 216 E 6th St\, Hopkinsville\, KY\, 42240\, United States
END:VEVENT
END:VCALENDAR